Workbook

Sheet Setup
A1: PeopleSheet Template Setup
A2: Template presensi yang ringan untuk tim yang masih mengelola status harian di Excel atau Google Sheets.
A5: Template | B5: Attendance Tracker Template
A6: Company | B6: PT Contoh Indonesia
A7: Privacy note | B7: No login. No employee database. Work locally in your spreadsheet.
A8: How to use | B8: Replace sample rows, keep formulas, then upload to Google Sheets if needed.
A11: Tracker month
A12: Month | B12: 46296
A13: Status options | B13: Present, Leave, Sick, Absent, Holiday, Off

Sheet Monthly Tracker
A1: Monthly Tracker
A2: Update statuses in the date columns. Change the month in Setup.
A4: Employee No. | B4: Employee Name | C4: Department | D4: =IF(COLUMN()-3>DAY(EOMONTH(Setup!$B$12,0)),"",DATE(YEAR(Setup!$B$12),MONTH(Setup!$B$12),COLUMN()-3)) | E4: =IF(COLUMN()-3>DAY(EOMONTH(Setup!$B$12,0)),"",DATE(YEAR(Setup!$B$12),MONTH(Setup!$B$12),COLUMN()-3)) | F4: =IF(COLUMN()-3>DAY(EOMONTH(Setup!$B$12,0)),"",DATE(YEAR(Setup!$B$12),MONTH(Setup!$B$12),COLUMN()-3)) | G4: =IF(COLUMN()-3>DAY(EOMONTH(Setup!$B$12,0)),"",DATE(YEAR(Setup!$B$12),MONTH(Setup!$B$12),COLUMN()-3)) | H4: =IF(COLUMN()-3>DAY(EOMONTH(Setup!$B$12,0)),"",DATE(YEAR(Setup!$B$12),MONTH(Setup!$B$12),COLUMN()-3)) | I4: =IF(COLUMN()-3>DAY(EOMONTH(Setup!$B$12,0)),"",DATE(YEAR(Setup!$B$12),MONTH(Setup!$B$12),COLUMN()-3)) | J4: =IF(COLUMN()-3>DAY(EOMONTH(Setup!$B$12,0)),"",DATE(YEAR(Setup!$B$12),MONTH(Setup!$B$12),COLUMN()-3)) | K4: =IF(COLUMN()-3>DAY(EOMONTH(Setup!$B$12,0)),"",DATE(YEAR(Setup!$B$12),MONTH(Setup!$B$12),COLUMN()-3)) | ... AH4: =IF(COLUMN()-3>DAY(EOMONTH(Setup!$B$12,0)),"",DATE(YEAR(Setup!$B$12),MONTH(Setup!$B$12),COLUMN()-3))
D5: =IF(D4="","",TEXT(D4,"ddd")) | E5: =IF(E4="","",TEXT(E4,"ddd")) | F5: =IF(F4="","",TEXT(F4,"ddd")) | G5: =IF(G4="","",TEXT(G4,"ddd")) | H5: =IF(H4="","",TEXT(H4,"ddd")) | I5: =IF(I4="","",TEXT(I4,"ddd")) | J5: =IF(J4="","",TEXT(J4,"ddd")) | K5: =IF(K4="","",TEXT(K4,"ddd")) | ... AH5: =IF(AH4="","",TEXT(AH4,"ddd"))
A6: EMP-001 | B6: Dina Prasetya | C6: Operations | D6: Present | E6: Present | F6: Off | G6: Off | H6: Present | I6: Present | J6: Present | K6: Leave | L6: Present
A7: EMP-002 | B7: Rafi Mahendra | C7: People | D7: Present | E7: Present | F7: Off | G7: Off | H7: Leave | I7: Present | J7: Present | K7: Present | L7: Present
A8: EMP-003 | B8: Sari Wulandari | C8: Finance | D8: Sick | E8: Present | F8: Off | G8: Off | H8: Present | I8: Present | J8: Sick | K8: Present | L8: Present
A9: EMP-004 | B9: Budi Santoso | C9: Operations | D9: Present | E9: Present | F9: Off | G9: Off | H9: Present | I9: Present | J9: Present | K9: Present | L9: Present
A10: EMP-005 | B10: Maya Anggraini | C10: Finance | D10: Present | E10: Present | F10: Off | G10: Off | H10: Present | I10: Present | J10: Present | K10: Present | L10: Present

Sheet Summary
A1: Summary
A2: Monthly status counts per employee.
A4: Employee No. | B4: Employee Name | C4: Present | D4: Leave | E4: Sick | F4: Absent | G4: Holiday | H4: Off
A5: EMP-001 | B5: Dina Prasetya | C5: =COUNTIF('Monthly Tracker'!D6:AH6,"Present") | D5: =COUNTIF('Monthly Tracker'!D6:AH6,"Leave") | E5: =COUNTIF('Monthly Tracker'!D6:AH6,"Sick") | F5: =COUNTIF('Monthly Tracker'!D6:AH6,"Absent") | G5: =COUNTIF('Monthly Tracker'!D6:AH6,"Holiday") | H5: =COUNTIF('Monthly Tracker'!D6:AH6,"Off")
A6: EMP-002 | B6: Rafi Mahendra | C6: =COUNTIF('Monthly Tracker'!D7:AH7,"Present") | D6: =COUNTIF('Monthly Tracker'!D7:AH7,"Leave") | E6: =COUNTIF('Monthly Tracker'!D7:AH7,"Sick") | F6: =COUNTIF('Monthly Tracker'!D7:AH7,"Absent") | G6: =COUNTIF('Monthly Tracker'!D7:AH7,"Holiday") | H6: =COUNTIF('Monthly Tracker'!D7:AH7,"Off")
A7: EMP-003 | B7: Sari Wulandari | C7: =COUNTIF('Monthly Tracker'!D8:AH8,"Present") | D7: =COUNTIF('Monthly Tracker'!D8:AH8,"Leave") | E7: =COUNTIF('Monthly Tracker'!D8:AH8,"Sick") | F7: =COUNTIF('Monthly Tracker'!D8:AH8,"Absent") | G7: =COUNTIF('Monthly Tracker'!D8:AH8,"Holiday") | H7: =COUNTIF('Monthly Tracker'!D8:AH8,"Off")
A8: EMP-004 | B8: Budi Santoso | C8: =COUNTIF('Monthly Tracker'!D9:AH9,"Present") | D8: =COUNTIF('Monthly Tracker'!D9:AH9,"Leave") | E8: =COUNTIF('Monthly Tracker'!D9:AH9,"Sick") | F8: =COUNTIF('Monthly Tracker'!D9:AH9,"Absent") | G8: =COUNTIF('Monthly Tracker'!D9:AH9,"Holiday") | H8: =COUNTIF('Monthly Tracker'!D9:AH9,"Off")
A9: EMP-005 | B9: Maya Anggraini | C9: =COUNTIF('Monthly Tracker'!D10:AH10,"Present") | D9: =COUNTIF('Monthly Tracker'!D10:AH10,"Leave") | E9: =COUNTIF('Monthly Tracker'!D10:AH10,"Sick") | F9: =COUNTIF('Monthly Tracker'!D10:AH10,"Absent") | G9: =COUNTIF('Monthly Tracker'!D10:AH10,"Holiday") | H9: =COUNTIF('Monthly Tracker'!D10:AH10,"Off")
